BEGIN:VCALENDAR
VERSION:2.0
PRODID:-//Mosaic Church - ECPv6.15.12.2//NONSGML v1.0//EN
CALSCALE:GREGORIAN
METHOD:PUBLISH
X-ORIGINAL-URL:https://www.mosaicchurchaustin.com
X-WR-CALDESC:Events for Mosaic Church
REFRESH-INTERVAL;VALUE=DURATION:PT1H
X-Robots-Tag:noindex
X-PUBLISHED-TTL:PT1H
BEGIN:VTIMEZONE
TZID:America/Chicago
BEGIN:DAYLIGHT
TZOFFSETFROM:-0600
TZOFFSETTO:-0500
TZNAME:CDT
DTSTART:20230312T080000
END:DAYLIGHT
BEGIN:STANDARD
TZOFFSETFROM:-0500
TZOFFSETTO:-0600
TZNAME:CST
DTSTART:20231105T070000
END:STANDARD
BEGIN:DAYLIGHT
TZOFFSETFROM:-0600
TZOFFSETTO:-0500
TZNAME:CDT
DTSTART:20240310T080000
END:DAYLIGHT
BEGIN:STANDARD
TZOFFSETFROM:-0500
TZOFFSETTO:-0600
TZNAME:CST
DTSTART:20241103T070000
END:STANDARD
BEGIN:DAYLIGHT
TZOFFSETFROM:-0600
TZOFFSETTO:-0500
TZNAME:CDT
DTSTART:20250309T080000
END:DAYLIGHT
BEGIN:STANDARD
TZOFFSETFROM:-0500
TZOFFSETTO:-0600
TZNAME:CST
DTSTART:20251102T070000
END:STANDARD
BEGIN:DAYLIGHT
TZOFFSETFROM:-0600
TZOFFSETTO:-0500
TZNAME:CDT
DTSTART:20260308T080000
END:DAYLIGHT
BEGIN:STANDARD
TZOFFSETFROM:-0500
TZOFFSETTO:-0600
TZNAME:CST
DTSTART:20261101T070000
END:STANDARD
END:VTIMEZONE
BEGIN:VEVENT
DTSTART;TZID=America/Chicago:20250525T093000
DTEND;TZID=America/Chicago:20250525T104500
DTSTAMP:20260419T191310
CREATED:20250130T210312Z
LAST-MODIFIED:20250320T200225Z
UID:10000283-1748165400-1748169900@www.mosaicchurchaustin.com
SUMMARY:Mosaic South Sunday Student Service
DESCRIPTION:Join Mosaic Students at Mosaic South on Sunday Mornings! Middle School and high school students meet together in the classrooms in the hallway off of the Texas Commons Area.
URL:https://www.mosaicchurchaustin.com/event/mosaic-south-sunday-student-service/2025-05-25/
LOCATION:Mosaic Church South Austin\, 9910 Bilbrook Pl\, Austin\, TX\, 78748
CATEGORIES:Mosaic Students
ATTACH;FMTTYPE=image/jpeg:https://www.mosaicchurchaustin.com/wp-content/uploads/New-Mosaic-Students-Brand-2025_Sunday-Service-scaled.jpg
END:VEVENT
BEGIN:VEVENT
DTSTART;TZID=America/Chicago:20250518T093000
DTEND;TZID=America/Chicago:20250518T104500
DTSTAMP:20260419T191310
CREATED:20250130T210312Z
LAST-MODIFIED:20250320T200225Z
UID:10000282-1747560600-1747565100@www.mosaicchurchaustin.com
SUMMARY:Mosaic South Sunday Student Service
DESCRIPTION:Join Mosaic Students at Mosaic South on Sunday Mornings! Middle School and high school students meet together in the classrooms in the hallway off of the Texas Commons Area.
URL:https://www.mosaicchurchaustin.com/event/mosaic-south-sunday-student-service/2025-05-18/
LOCATION:Mosaic Church South Austin\, 9910 Bilbrook Pl\, Austin\, TX\, 78748
CATEGORIES:Mosaic Students
ATTACH;FMTTYPE=image/jpeg:https://www.mosaicchurchaustin.com/wp-content/uploads/New-Mosaic-Students-Brand-2025_Sunday-Service-scaled.jpg
END:VEVENT
BEGIN:VEVENT
DTSTART;TZID=America/Chicago:20250504T093000
DTEND;TZID=America/Chicago:20250504T104500
DTSTAMP:20260419T191310
CREATED:20250130T210312Z
LAST-MODIFIED:20250320T200225Z
UID:10000281-1746351000-1746355500@www.mosaicchurchaustin.com
SUMMARY:Mosaic South Sunday Student Service
DESCRIPTION:Join Mosaic Students at Mosaic South on Sunday Mornings! Middle School and high school students meet together in the classrooms in the hallway off of the Texas Commons Area.
URL:https://www.mosaicchurchaustin.com/event/mosaic-south-sunday-student-service/2025-05-04/
LOCATION:Mosaic Church South Austin\, 9910 Bilbrook Pl\, Austin\, TX\, 78748
CATEGORIES:Mosaic Students
ATTACH;FMTTYPE=image/jpeg:https://www.mosaicchurchaustin.com/wp-content/uploads/New-Mosaic-Students-Brand-2025_Sunday-Service-scaled.jpg
END:VEVENT
BEGIN:VEVENT
DTSTART;TZID=America/Chicago:20250427T093000
DTEND;TZID=America/Chicago:20250427T104500
DTSTAMP:20260419T191310
CREATED:20250130T210312Z
LAST-MODIFIED:20250320T200225Z
UID:10000280-1745746200-1745750700@www.mosaicchurchaustin.com
SUMMARY:Mosaic South Sunday Student Service
DESCRIPTION:Join Mosaic Students at Mosaic South on Sunday Mornings! Middle School and high school students meet together in the classrooms in the hallway off of the Texas Commons Area.
URL:https://www.mosaicchurchaustin.com/event/mosaic-south-sunday-student-service/2025-04-27/
LOCATION:Mosaic Church South Austin\, 9910 Bilbrook Pl\, Austin\, TX\, 78748
CATEGORIES:Mosaic Students
ATTACH;FMTTYPE=image/jpeg:https://www.mosaicchurchaustin.com/wp-content/uploads/New-Mosaic-Students-Brand-2025_Sunday-Service-scaled.jpg
END:VEVENT
BEGIN:VEVENT
DTSTART;TZID=America/Chicago:20250413T093000
DTEND;TZID=America/Chicago:20250413T104500
DTSTAMP:20260419T191310
CREATED:20250130T210312Z
LAST-MODIFIED:20250320T200225Z
UID:10000279-1744536600-1744541100@www.mosaicchurchaustin.com
SUMMARY:Mosaic South Sunday Student Service
DESCRIPTION:Join Mosaic Students at Mosaic South on Sunday Mornings! Middle School and high school students meet together in the classrooms in the hallway off of the Texas Commons Area.
URL:https://www.mosaicchurchaustin.com/event/mosaic-south-sunday-student-service/2025-04-13/
LOCATION:Mosaic Church South Austin\, 9910 Bilbrook Pl\, Austin\, TX\, 78748
CATEGORIES:Mosaic Students
ATTACH;FMTTYPE=image/jpeg:https://www.mosaicchurchaustin.com/wp-content/uploads/New-Mosaic-Students-Brand-2025_Sunday-Service-scaled.jpg
END:VEVENT
BEGIN:VEVENT
DTSTART;TZID=America/Chicago:20250406T093000
DTEND;TZID=America/Chicago:20250406T104500
DTSTAMP:20260419T191310
CREATED:20250130T210312Z
LAST-MODIFIED:20250320T200225Z
UID:10000278-1743931800-1743936300@www.mosaicchurchaustin.com
SUMMARY:Mosaic South Sunday Student Service
DESCRIPTION:Join Mosaic Students at Mosaic South on Sunday Mornings! Middle School and high school students meet together in the classrooms in the hallway off of the Texas Commons Area.
URL:https://www.mosaicchurchaustin.com/event/mosaic-south-sunday-student-service/2025-04-06/
LOCATION:Mosaic Church South Austin\, 9910 Bilbrook Pl\, Austin\, TX\, 78748
CATEGORIES:Mosaic Students
ATTACH;FMTTYPE=image/jpeg:https://www.mosaicchurchaustin.com/wp-content/uploads/New-Mosaic-Students-Brand-2025_Sunday-Service-scaled.jpg
END:VEVENT
BEGIN:VEVENT
DTSTART;TZID=America/Chicago:20250330T093000
DTEND;TZID=America/Chicago:20250330T104500
DTSTAMP:20260419T191310
CREATED:20250130T210312Z
LAST-MODIFIED:20250320T200225Z
UID:10000277-1743327000-1743331500@www.mosaicchurchaustin.com
SUMMARY:Mosaic South Sunday Student Service
DESCRIPTION:Join Mosaic Students at Mosaic South on Sunday Mornings! Middle School and high school students meet together in the classrooms in the hallway off of the Texas Commons Area.
URL:https://www.mosaicchurchaustin.com/event/mosaic-south-sunday-student-service/2025-03-30/
LOCATION:Mosaic Church South Austin\, 9910 Bilbrook Pl\, Austin\, TX\, 78748
CATEGORIES:Mosaic Students
ATTACH;FMTTYPE=image/jpeg:https://www.mosaicchurchaustin.com/wp-content/uploads/New-Mosaic-Students-Brand-2025_Sunday-Service-scaled.jpg
END:VEVENT
BEGIN:VEVENT
DTSTART;TZID=America/Chicago:20250323T093000
DTEND;TZID=America/Chicago:20250323T104500
DTSTAMP:20260419T191310
CREATED:20250130T210312Z
LAST-MODIFIED:20250320T200225Z
UID:10000276-1742722200-1742726700@www.mosaicchurchaustin.com
SUMMARY:Mosaic South Sunday Student Service
DESCRIPTION:Join Mosaic Students at Mosaic South on Sunday Mornings! Middle School and high school students meet together in the classrooms in the hallway off of the Texas Commons Area.
URL:https://www.mosaicchurchaustin.com/event/mosaic-south-sunday-student-service/2025-03-23/
LOCATION:Mosaic Church South Austin\, 9910 Bilbrook Pl\, Austin\, TX\, 78748
CATEGORIES:Mosaic Students
ATTACH;FMTTYPE=image/jpeg:https://www.mosaicchurchaustin.com/wp-content/uploads/New-Mosaic-Students-Brand-2025_Sunday-Service-scaled.jpg
END:VEVENT
BEGIN:VEVENT
DTSTART;TZID=America/Chicago:20250316T093000
DTEND;TZID=America/Chicago:20250316T104500
DTSTAMP:20260419T191310
CREATED:20250130T210312Z
LAST-MODIFIED:20250320T200225Z
UID:10000275-1742117400-1742121900@www.mosaicchurchaustin.com
SUMMARY:Mosaic South Sunday Student Service
DESCRIPTION:Join Mosaic Students at Mosaic South on Sunday Mornings! Middle School and high school students meet together in the classrooms in the hallway off of the Texas Commons Area.
URL:https://www.mosaicchurchaustin.com/event/mosaic-south-sunday-student-service/2025-03-16/
LOCATION:Mosaic Church South Austin\, 9910 Bilbrook Pl\, Austin\, TX\, 78748
CATEGORIES:Mosaic Students
ATTACH;FMTTYPE=image/jpeg:https://www.mosaicchurchaustin.com/wp-content/uploads/New-Mosaic-Students-Brand-2025_Sunday-Service-scaled.jpg
END:VEVENT
BEGIN:VEVENT
DTSTART;TZID=America/Chicago:20250309T093000
DTEND;TZID=America/Chicago:20250309T104500
DTSTAMP:20260419T191310
CREATED:20250130T210312Z
LAST-MODIFIED:20250320T200225Z
UID:10000274-1741512600-1741517100@www.mosaicchurchaustin.com
SUMMARY:Mosaic South Sunday Student Service
DESCRIPTION:Join Mosaic Students at Mosaic South on Sunday Mornings! Middle School and high school students meet together in the classrooms in the hallway off of the Texas Commons Area.
URL:https://www.mosaicchurchaustin.com/event/mosaic-south-sunday-student-service/2025-03-09/
LOCATION:Mosaic Church South Austin\, 9910 Bilbrook Pl\, Austin\, TX\, 78748
CATEGORIES:Mosaic Students
ATTACH;FMTTYPE=image/jpeg:https://www.mosaicchurchaustin.com/wp-content/uploads/New-Mosaic-Students-Brand-2025_Sunday-Service-scaled.jpg
END:VEVENT
BEGIN:VEVENT
DTSTART;TZID=America/Chicago:20250302T093000
DTEND;TZID=America/Chicago:20250302T104500
DTSTAMP:20260419T191310
CREATED:20250130T210312Z
LAST-MODIFIED:20250320T200225Z
UID:10000273-1740907800-1740912300@www.mosaicchurchaustin.com
SUMMARY:Mosaic South Sunday Student Service
DESCRIPTION:Join Mosaic Students at Mosaic South on Sunday Mornings! Middle School and high school students meet together in the classrooms in the hallway off of the Texas Commons Area.
URL:https://www.mosaicchurchaustin.com/event/mosaic-south-sunday-student-service/2025-03-02/
LOCATION:Mosaic Church South Austin\, 9910 Bilbrook Pl\, Austin\, TX\, 78748
CATEGORIES:Mosaic Students
ATTACH;FMTTYPE=image/jpeg:https://www.mosaicchurchaustin.com/wp-content/uploads/New-Mosaic-Students-Brand-2025_Sunday-Service-scaled.jpg
END:VEVENT
BEGIN:VEVENT
DTSTART;TZID=America/Chicago:20250223T093000
DTEND;TZID=America/Chicago:20250223T104500
DTSTAMP:20260419T191310
CREATED:20250130T210312Z
LAST-MODIFIED:20250320T200225Z
UID:10000272-1740303000-1740307500@www.mosaicchurchaustin.com
SUMMARY:Mosaic South Sunday Student Service
DESCRIPTION:Join Mosaic Students at Mosaic South on Sunday Mornings! Middle School and high school students meet together in the classrooms in the hallway off of the Texas Commons Area.
URL:https://www.mosaicchurchaustin.com/event/mosaic-south-sunday-student-service/2025-02-23/
LOCATION:Mosaic Church South Austin\, 9910 Bilbrook Pl\, Austin\, TX\, 78748
CATEGORIES:Mosaic Students
ATTACH;FMTTYPE=image/jpeg:https://www.mosaicchurchaustin.com/wp-content/uploads/New-Mosaic-Students-Brand-2025_Sunday-Service-scaled.jpg
END:VEVENT
BEGIN:VEVENT
DTSTART;TZID=America/Chicago:20250216T093000
DTEND;TZID=America/Chicago:20250216T104500
DTSTAMP:20260419T191310
CREATED:20250130T210312Z
LAST-MODIFIED:20250320T200225Z
UID:10000271-1739698200-1739702700@www.mosaicchurchaustin.com
SUMMARY:Mosaic South Sunday Student Service
DESCRIPTION:Join Mosaic Students at Mosaic South on Sunday Mornings! Middle School and high school students meet together in the classrooms in the hallway off of the Texas Commons Area.
URL:https://www.mosaicchurchaustin.com/event/mosaic-south-sunday-student-service/2025-02-16/
LOCATION:Mosaic Church South Austin\, 9910 Bilbrook Pl\, Austin\, TX\, 78748
CATEGORIES:Mosaic Students
ATTACH;FMTTYPE=image/jpeg:https://www.mosaicchurchaustin.com/wp-content/uploads/New-Mosaic-Students-Brand-2025_Sunday-Service-scaled.jpg
END:VEVENT
BEGIN:VEVENT
DTSTART;TZID=America/Chicago:20250209T093000
DTEND;TZID=America/Chicago:20250209T104500
DTSTAMP:20260419T191310
CREATED:20250130T210312Z
LAST-MODIFIED:20250320T200225Z
UID:10000270-1739093400-1739097900@www.mosaicchurchaustin.com
SUMMARY:Mosaic South Sunday Student Service
DESCRIPTION:Join Mosaic Students at Mosaic South on Sunday Mornings! Middle School and high school students meet together in the classrooms in the hallway off of the Texas Commons Area.
URL:https://www.mosaicchurchaustin.com/event/mosaic-south-sunday-student-service/2025-02-09/
LOCATION:Mosaic Church South Austin\, 9910 Bilbrook Pl\, Austin\, TX\, 78748
CATEGORIES:Mosaic Students
ATTACH;FMTTYPE=image/jpeg:https://www.mosaicchurchaustin.com/wp-content/uploads/New-Mosaic-Students-Brand-2025_Sunday-Service-scaled.jpg
END:VEVENT
BEGIN:VEVENT
DTSTART;TZID=America/Chicago:20250202T093000
DTEND;TZID=America/Chicago:20250202T104500
DTSTAMP:20260419T191310
CREATED:20250130T214810Z
LAST-MODIFIED:20250130T214810Z
UID:10000236-1738488600-1738493100@www.mosaicchurchaustin.com
SUMMARY:Mosaic South Sunday Student Service
DESCRIPTION:Join Mosaic Students at Mosaic South on Sunday Mornings! Middle School and high school students meet together in the classrooms in the hallway off of the Texas Commons Area.
URL:https://www.mosaicchurchaustin.com/event/mosaic-south-sunday-student-service-3/
LOCATION:Mosaic Church South Austin\, 9910 Bilbrook Pl\, Austin\, TX\, 78748
CATEGORIES:Mosaic Students
ATTACH;FMTTYPE=image/jpeg:https://www.mosaicchurchaustin.com/wp-content/uploads/MosaicSStudentsSundayService.jpg
END:VEVENT
BEGIN:VEVENT
DTSTART;TZID=America/Chicago:20250202T093000
DTEND;TZID=America/Chicago:20250202T104500
DTSTAMP:20260419T191310
CREATED:20250130T210312Z
LAST-MODIFIED:20250320T200225Z
UID:10000269-1738488600-1738493100@www.mosaicchurchaustin.com
SUMMARY:Mosaic South Sunday Student Service
DESCRIPTION:Join Mosaic Students at Mosaic South on Sunday Mornings! Middle School and high school students meet together in the classrooms in the hallway off of the Texas Commons Area.
URL:https://www.mosaicchurchaustin.com/event/mosaic-south-sunday-student-service/2025-02-02/
LOCATION:Mosaic Church South Austin\, 9910 Bilbrook Pl\, Austin\, TX\, 78748
CATEGORIES:Mosaic Students
ATTACH;FMTTYPE=image/jpeg:https://www.mosaicchurchaustin.com/wp-content/uploads/New-Mosaic-Students-Brand-2025_Sunday-Service-scaled.jpg
END:VEVENT
BEGIN:VEVENT
DTSTART;TZID=America/Chicago:20250119T093000
DTEND;TZID=America/Chicago:20250119T104500
DTSTAMP:20260419T191311
CREATED:20250112T213604Z
LAST-MODIFIED:20250112T214301Z
UID:10000126-1737279000-1737283500@www.mosaicchurchaustin.com
SUMMARY:No Mosaic South Sunday Student Service
DESCRIPTION:Join Mosaic Students at Mosaic North for Elevate Weekend.
URL:https://www.mosaicchurchaustin.com/event/mosaic-south-sunday-student-service-2/
LOCATION:Mosaic Church South Austin\, 9910 Bilbrook Pl\, Austin\, TX\, 78748
CATEGORIES:Mosaic Students
ATTACH;FMTTYPE=image/jpeg:https://www.mosaicchurchaustin.com/wp-content/uploads/MosaicSStudentsSundayService.jpg
END:VEVENT
BEGIN:VEVENT
DTSTART;TZID=America/Chicago:20250117T180000
DTEND;TZID=America/Chicago:20250120T130000
DTSTAMP:20260419T191311
CREATED:20241018T212350Z
LAST-MODIFIED:20250110T052846Z
UID:10000132-1737136800-1737378000@www.mosaicchurchaustin.com
SUMMARY:Special Mosaic Students Event
DESCRIPTION:Get details and register now for ELEVATE Weekend 2025!
URL:https://www.mosaicchurchaustin.com/event/special-mosaic-students-event/
LOCATION:Mosaic Church Austin Student Center\, 12116 Jekel Circle\, Austin\, TX\, 78727\, United States
ATTACH;FMTTYPE=image/jpeg:https://www.mosaicchurchaustin.com/wp-content/uploads/Elevate-Weekend-2025_REGISTRATION.jpg
END:VEVENT
BEGIN:VEVENT
DTSTART;TZID=America/Chicago:20241215T093000
DTEND;TZID=America/Chicago:20241215T104500
DTSTAMP:20260419T191311
CREATED:20240906T174554Z
LAST-MODIFIED:20241018T202925Z
UID:10000025-1734255000-1734259500@www.mosaicchurchaustin.com
SUMMARY:Mosaic South Sunday Student Service
DESCRIPTION:Join Mosaic Students at Mosaic South on Sunday Mornings! Middle School and High School students meet together in the classrooms in the hallway off of the Texas Commons Area.
URL:https://www.mosaicchurchaustin.com/event/mosaic-students-sunday-services/2024-12-15/
LOCATION:Mosaic Church South Austin\, 9910 Bilbrook Pl\, Austin\, TX\, 78748
CATEGORIES:Mosaic Students
ATTACH;FMTTYPE=image/jpeg:https://www.mosaicchurchaustin.com/wp-content/uploads/MosaicSStudentsSundayService.jpg
END:VEVENT
BEGIN:VEVENT
DTSTART;TZID=America/Chicago:20241208T093000
DTEND;TZID=America/Chicago:20241208T104500
DTSTAMP:20260419T191311
CREATED:20240906T174554Z
LAST-MODIFIED:20241018T202925Z
UID:10000024-1733650200-1733654700@www.mosaicchurchaustin.com
SUMMARY:Mosaic South Sunday Student Service
DESCRIPTION:Join Mosaic Students at Mosaic South on Sunday Mornings! Middle School and High School students meet together in the classrooms in the hallway off of the Texas Commons Area.
URL:https://www.mosaicchurchaustin.com/event/mosaic-students-sunday-services/2024-12-08/
LOCATION:Mosaic Church South Austin\, 9910 Bilbrook Pl\, Austin\, TX\, 78748
CATEGORIES:Mosaic Students
ATTACH;FMTTYPE=image/jpeg:https://www.mosaicchurchaustin.com/wp-content/uploads/MosaicSStudentsSundayService.jpg
END:VEVENT
BEGIN:VEVENT
DTSTART;TZID=America/Chicago:20241124T093000
DTEND;TZID=America/Chicago:20241124T104500
DTSTAMP:20260419T191311
CREATED:20240906T174554Z
LAST-MODIFIED:20241018T202925Z
UID:10000022-1732440600-1732445100@www.mosaicchurchaustin.com
SUMMARY:Mosaic South Sunday Student Service
DESCRIPTION:Join Mosaic Students at Mosaic South on Sunday Mornings! Middle School and High School students meet together in the classrooms in the hallway off of the Texas Commons Area.
URL:https://www.mosaicchurchaustin.com/event/mosaic-students-sunday-services/2024-11-24/
LOCATION:Mosaic Church South Austin\, 9910 Bilbrook Pl\, Austin\, TX\, 78748
CATEGORIES:Mosaic Students
ATTACH;FMTTYPE=image/jpeg:https://www.mosaicchurchaustin.com/wp-content/uploads/MosaicSStudentsSundayService.jpg
END:VEVENT
BEGIN:VEVENT
DTSTART;TZID=America/Chicago:20241117T093000
DTEND;TZID=America/Chicago:20241117T104500
DTSTAMP:20260419T191311
CREATED:20240906T174554Z
LAST-MODIFIED:20241018T202925Z
UID:10000021-1731835800-1731840300@www.mosaicchurchaustin.com
SUMMARY:Mosaic South Sunday Student Service
DESCRIPTION:Join Mosaic Students at Mosaic South on Sunday Mornings! Middle School and High School students meet together in the classrooms in the hallway off of the Texas Commons Area.
URL:https://www.mosaicchurchaustin.com/event/mosaic-students-sunday-services/2024-11-17/
LOCATION:Mosaic Church South Austin\, 9910 Bilbrook Pl\, Austin\, TX\, 78748
CATEGORIES:Mosaic Students
ATTACH;FMTTYPE=image/jpeg:https://www.mosaicchurchaustin.com/wp-content/uploads/MosaicSStudentsSundayService.jpg
END:VEVENT
BEGIN:VEVENT
DTSTART;TZID=America/Chicago:20241110T093000
DTEND;TZID=America/Chicago:20241110T104500
DTSTAMP:20260419T191311
CREATED:20240906T174554Z
LAST-MODIFIED:20241018T202925Z
UID:10000020-1731231000-1731235500@www.mosaicchurchaustin.com
SUMMARY:Mosaic South Sunday Student Service
DESCRIPTION:Join Mosaic Students at Mosaic South on Sunday Mornings! Middle School and High School students meet together in the classrooms in the hallway off of the Texas Commons Area.
URL:https://www.mosaicchurchaustin.com/event/mosaic-students-sunday-services/2024-11-10/
LOCATION:Mosaic Church South Austin\, 9910 Bilbrook Pl\, Austin\, TX\, 78748
CATEGORIES:Mosaic Students
ATTACH;FMTTYPE=image/jpeg:https://www.mosaicchurchaustin.com/wp-content/uploads/MosaicSStudentsSundayService.jpg
END:VEVENT
BEGIN:VEVENT
DTSTART;TZID=America/Chicago:20241103T093000
DTEND;TZID=America/Chicago:20241103T104500
DTSTAMP:20260419T191311
CREATED:20240906T174554Z
LAST-MODIFIED:20241018T202925Z
UID:10000019-1730626200-1730630700@www.mosaicchurchaustin.com
SUMMARY:Mosaic South Sunday Student Service
DESCRIPTION:Join Mosaic Students at Mosaic South on Sunday Mornings! Middle School and High School students meet together in the classrooms in the hallway off of the Texas Commons Area.
URL:https://www.mosaicchurchaustin.com/event/mosaic-students-sunday-services/2024-11-03/
LOCATION:Mosaic Church South Austin\, 9910 Bilbrook Pl\, Austin\, TX\, 78748
CATEGORIES:Mosaic Students
ATTACH;FMTTYPE=image/jpeg:https://www.mosaicchurchaustin.com/wp-content/uploads/MosaicSStudentsSundayService.jpg
END:VEVENT
BEGIN:VEVENT
DTSTART;TZID=America/Chicago:20241027T093000
DTEND;TZID=America/Chicago:20241027T104500
DTSTAMP:20260419T191311
CREATED:20240906T174554Z
LAST-MODIFIED:20241018T202925Z
UID:10000018-1730021400-1730025900@www.mosaicchurchaustin.com
SUMMARY:Mosaic South Sunday Student Service
DESCRIPTION:Join Mosaic Students at Mosaic South on Sunday Mornings! Middle School and High School students meet together in the classrooms in the hallway off of the Texas Commons Area.
URL:https://www.mosaicchurchaustin.com/event/mosaic-students-sunday-services/2024-10-27/
LOCATION:Mosaic Church South Austin\, 9910 Bilbrook Pl\, Austin\, TX\, 78748
CATEGORIES:Mosaic Students
ATTACH;FMTTYPE=image/jpeg:https://www.mosaicchurchaustin.com/wp-content/uploads/MosaicSStudentsSundayService.jpg
END:VEVENT
BEGIN:VEVENT
DTSTART;TZID=America/Chicago:20241020T093000
DTEND;TZID=America/Chicago:20241020T104500
DTSTAMP:20260419T191311
CREATED:20240906T174554Z
LAST-MODIFIED:20241018T202925Z
UID:10000017-1729416600-1729421100@www.mosaicchurchaustin.com
SUMMARY:Mosaic South Sunday Student Service
DESCRIPTION:Join Mosaic Students at Mosaic South on Sunday Mornings! Middle School and High School students meet together in the classrooms in the hallway off of the Texas Commons Area.
URL:https://www.mosaicchurchaustin.com/event/mosaic-students-sunday-services/2024-10-20/
LOCATION:Mosaic Church South Austin\, 9910 Bilbrook Pl\, Austin\, TX\, 78748
CATEGORIES:Mosaic Students
ATTACH;FMTTYPE=image/jpeg:https://www.mosaicchurchaustin.com/wp-content/uploads/MosaicSStudentsSundayService.jpg
END:VEVENT
BEGIN:VEVENT
DTSTART;TZID=America/Chicago:20241013T130000
DTEND;TZID=America/Chicago:20241013T160000
DTSTAMP:20260419T191311
CREATED:20240922T064936Z
LAST-MODIFIED:20240922T064936Z
UID:10000088-1728824400-1728835200@www.mosaicchurchaustin.com
SUMMARY:Community Cookout @ Mosaic South
DESCRIPTION:Meet church leaders and members! Students are encouraged to attend and bring a friend to Mosaic South’s Community Cookout. Grilled burgers and games will be available after Sunday service.
URL:https://www.mosaicchurchaustin.com/event/community-cookout-mosaic-south/
LOCATION:Mosaic Church South Austin\, 9910 Bilbrook Pl\, Austin\, TX\, 78748
CATEGORIES:Mosaic Students
ATTACH;FMTTYPE=image/jpeg:https://www.mosaicchurchaustin.com/wp-content/uploads/Mosaic-Students-Special-Event.jpg
END:VEVENT
BEGIN:VEVENT
DTSTART;TZID=America/Chicago:20241013T093000
DTEND;TZID=America/Chicago:20241013T104500
DTSTAMP:20260419T191311
CREATED:20240906T174554Z
LAST-MODIFIED:20241018T202925Z
UID:10000016-1728811800-1728816300@www.mosaicchurchaustin.com
SUMMARY:Mosaic South Sunday Student Service
DESCRIPTION:Join Mosaic Students at Mosaic South on Sunday Mornings! Middle School and High School students meet together in the classrooms in the hallway off of the Texas Commons Area.
URL:https://www.mosaicchurchaustin.com/event/mosaic-students-sunday-services/2024-10-13/
LOCATION:Mosaic Church South Austin\, 9910 Bilbrook Pl\, Austin\, TX\, 78748
CATEGORIES:Mosaic Students
ATTACH;FMTTYPE=image/jpeg:https://www.mosaicchurchaustin.com/wp-content/uploads/MosaicSStudentsSundayService.jpg
END:VEVENT
BEGIN:VEVENT
DTSTART;TZID=America/Chicago:20241006T093000
DTEND;TZID=America/Chicago:20241006T104500
DTSTAMP:20260419T191311
CREATED:20240906T174554Z
LAST-MODIFIED:20241018T202925Z
UID:10000015-1728207000-1728211500@www.mosaicchurchaustin.com
SUMMARY:Mosaic South Sunday Student Service
DESCRIPTION:Join Mosaic Students at Mosaic South on Sunday Mornings! Middle School and High School students meet together in the classrooms in the hallway off of the Texas Commons Area.
URL:https://www.mosaicchurchaustin.com/event/mosaic-students-sunday-services/2024-10-06/
LOCATION:Mosaic Church South Austin\, 9910 Bilbrook Pl\, Austin\, TX\, 78748
CATEGORIES:Mosaic Students
ATTACH;FMTTYPE=image/jpeg:https://www.mosaicchurchaustin.com/wp-content/uploads/MosaicSStudentsSundayService.jpg
END:VEVENT
BEGIN:VEVENT
DTSTART;TZID=America/Chicago:20240929T093000
DTEND;TZID=America/Chicago:20240929T104500
DTSTAMP:20260419T191311
CREATED:20240906T174554Z
LAST-MODIFIED:20241018T202925Z
UID:10000014-1727602200-1727606700@www.mosaicchurchaustin.com
SUMMARY:Mosaic South Sunday Student Service
DESCRIPTION:Join Mosaic Students at Mosaic South on Sunday Mornings! Middle School and High School students meet together in the classrooms in the hallway off of the Texas Commons Area.
URL:https://www.mosaicchurchaustin.com/event/mosaic-students-sunday-services/2024-09-29/
LOCATION:Mosaic Church South Austin\, 9910 Bilbrook Pl\, Austin\, TX\, 78748
CATEGORIES:Mosaic Students
ATTACH;FMTTYPE=image/jpeg:https://www.mosaicchurchaustin.com/wp-content/uploads/MosaicSStudentsSundayService.jpg
END:VEVENT
END:VCALENDAR